BEGIN:VCALENDAR
VERSION:2.0
PRODID:-//Netwerk Agenda Nederland - ECPv6.15.20//NONSGML v1.0//EN
CALSCALE:GREGORIAN
METHOD:PUBLISH
X-WR-CALNAME:Netwerk Agenda Nederland
X-ORIGINAL-URL:https://netwerkagendanederland.nl
X-WR-CALDESC:Evenementen voor Netwerk Agenda Nederland
REFRESH-INTERVAL;VALUE=DURATION:PT1H
X-Robots-Tag:noindex
X-PUBLISHED-TTL:PT1H
BEGIN:VTIMEZONE
TZID:Europe/Amsterdam
BEGIN:DAYLIGHT
TZOFFSETFROM:+0100
TZOFFSETTO:+0200
TZNAME:CEST
DTSTART:20250330T010000
END:DAYLIGHT
BEGIN:STANDARD
TZOFFSETFROM:+0200
TZOFFSETTO:+0100
TZNAME:CET
DTSTART:20251026T010000
END:STANDARD
BEGIN:DAYLIGHT
TZOFFSETFROM:+0100
TZOFFSETTO:+0200
TZNAME:CEST
DTSTART:20260329T010000
END:DAYLIGHT
BEGIN:STANDARD
TZOFFSETFROM:+0200
TZOFFSETTO:+0100
TZNAME:CET
DTSTART:20261025T010000
END:STANDARD
BEGIN:DAYLIGHT
TZOFFSETFROM:+0100
TZOFFSETTO:+0200
TZNAME:CEST
DTSTART:20270328T010000
END:DAYLIGHT
BEGIN:STANDARD
TZOFFSETFROM:+0200
TZOFFSETTO:+0100
TZNAME:CET
DTSTART:20271031T010000
END:STANDARD
END:VTIMEZONE
BEGIN:VEVENT
DTSTART;TZID=Europe/Amsterdam:20260507T193000
DTEND;TZID=Europe/Amsterdam:20260507T220000
DTSTAMP:20260422T134703
CREATED:20260122T151650Z
LAST-MODIFIED:20260325T072756Z
UID:19769-1778182200-1778191200@netwerkagendanederland.nl
SUMMARY:Digitale Detox voor vrouwelijke ondernemers - Nijmegen
DESCRIPTION:Op 25 maart 2026 nodigen we je uit voor een bijzondere avond in het Badhuis in Nijmegen\, helemaal gewijd aan digitale detox. Samen onderzoeken we hoe meer rust en balans mogelijk is in een wereld vol schermen. We zitten vaak ongemerkt urenlang op onze telefoon\, en dat laat zijn sporen na in ons hoofd. Notificaties\, social media\, nieuwsfeed: het houdt ons brein constant bezig en maakt echt ontspannen lastig. Tijdens deze avond duiken we in wat al dat gescroll met je doet en hoe je je schermtijd kunt verminderen op een manier die werkt voor jou. Geen extreme maatregelen\, gewoon slimme tips en kleine gewoontes die zorgen voor meer rust en focus. Het wordt een inspirerende en praktische avond. Herkenning voor iedereen\, maar ook inzichten én natuurlijk ruimte om even helemaal offline te zijn. \nDe sprekers zijn:\n• Lotje Siffels is postdoctoraal onderzoeker aan de Radboud universiteit en onderzoekt de ethische en maatschappelijke gevolgen van de toepassing van AI in het onderwijs. \n•  Ilke Oner is neuropsycholoog\, moeder\, ondernemer en iemand die haar telefoon net zo goed kent als jij\, maar wél snapt wat die ondertussen met ons brein doet. In haar werk verbindt ze wetenschap met het echte leven: van boardroom tot keukentafel\, van leiderschap tot opvoeding\, van focus tot verbinding.
URL:https://netwerkagendanederland.nl/evenement/digitale-detox-voor-vrouwelijke-ondernemers-nijmegen/
LOCATION:Theater het Badhuis Nijmegen\, Daalseweg 262\, Nijmegen\, 6523 CD\, Netherlands
ATTACH;FMTTYPE=image/jpeg:https://netwerkagendanederland.nl/wp-content/uploads/2025/05/BEP-Club_Nijmegen.jpg
ORGANIZER;CN="BEP Club":MAILTO:info@bepclub.nl
END:VEVENT
END:VCALENDAR