BEGIN:VCALENDAR
VERSION:2.0
PRODID:-//Netwerk Agenda Nederland - ECPv6.15.20//NONSGML v1.0//EN
CALSCALE:GREGORIAN
METHOD:PUBLISH
X-WR-CALNAME:Netwerk Agenda Nederland
X-ORIGINAL-URL:https://netwerkagendanederland.nl
X-WR-CALDESC:Evenementen voor Netwerk Agenda Nederland
REFRESH-INTERVAL;VALUE=DURATION:PT1H
X-Robots-Tag:noindex
X-PUBLISHED-TTL:PT1H
BEGIN:VTIMEZONE
TZID:Europe/Amsterdam
BEGIN:DAYLIGHT
TZOFFSETFROM:+0100
TZOFFSETTO:+0200
TZNAME:CEST
DTSTART:20250330T010000
END:DAYLIGHT
BEGIN:STANDARD
TZOFFSETFROM:+0200
TZOFFSETTO:+0100
TZNAME:CET
DTSTART:20251026T010000
END:STANDARD
BEGIN:DAYLIGHT
TZOFFSETFROM:+0100
TZOFFSETTO:+0200
TZNAME:CEST
DTSTART:20260329T010000
END:DAYLIGHT
BEGIN:STANDARD
TZOFFSETFROM:+0200
TZOFFSETTO:+0100
TZNAME:CET
DTSTART:20261025T010000
END:STANDARD
BEGIN:DAYLIGHT
TZOFFSETFROM:+0100
TZOFFSETTO:+0200
TZNAME:CEST
DTSTART:20270328T010000
END:DAYLIGHT
BEGIN:STANDARD
TZOFFSETFROM:+0200
TZOFFSETTO:+0100
TZNAME:CET
DTSTART:20271031T010000
END:STANDARD
END:VTIMEZONE
BEGIN:VEVENT
DTSTART;TZID=Europe/Amsterdam:20260606T093000
DTEND;TZID=Europe/Amsterdam:20260606T150000
DTSTAMP:20260422T123910
CREATED:20260316T142604Z
LAST-MODIFIED:20260316T142604Z
UID:22379-1780738200-1780758000@netwerkagendanederland.nl
SUMMARY:Live-dag Projectorschap - Meppel
DESCRIPTION:Ben jij Projector (en ondernemer) en wil je meer weten over je Projectorschap?  Dan is deze dag voor jou. \n(Na de eerste dag op 13-3 heb ik besloten om dit nog een keer te doen. Puur omdat ik het zo belangrijk vind voor Projectors en omdat ik mijn intuïtie volg. Ik ga er niet vanuit dat er nog een dag komt omdat dit niet mijn core-business is.) \nAls Projector zijn we hier om onze wijsheid te delen en te gidsen. Niet om je als een energietype te gedragen en ‘hard te werken’. Hoe doe je dat als ondernemer? Hoe verhoudt je je tot je Projectors rol in een Generator wereld? \nJij bent hier niet om te ‘doen’ maar om te ‘zien en gidsen’. \nIn 2027 gaat de energie veranderen. Dit is een belangrijke gebeurtenis voor de Projector. Ik neem je mee naar 2027 waarna de rol van de Projector pas echt goed tot zijn recht gaat komen. \nDat vraagt nu al iets van jou als Projector. En het is fijn om daarop voorbereid te zijn. \nOp deze dag neem ik je mee in jouw rol als Projector\, het voelen van je energie\, deconditioneren en de veranderingen die op komst zijn. \nEn wat bijzonder is\, is dat je deze dag dus alleen omringt bent door Projectors. Dus heb je normaal gesproken moeite met een groep dan ben ik heel benieuwd of je dit anders gaat ervaren. \nPraktisch\n🕒 Datum: 6-6 van 9.30 – 15.00 uur\n📍 Locatie: volgt (omgeving Meppel)\n💰 Investering: 147\,- (excl. BTW)\n🎁 Inclusief: presentje\n☕️ Inclusief: koffie/thee (lunch ovb van locatie) \n➡️ Geef je nu op; Live-dag Projectorschap \nps. Zelf ben ik Milt Projector 2/4 en sinds 2020 bezig met Human Design. \npps. Op deze dag ga ik ook graag in op de vraagstukken die bij jou leven. Dus deel die vooral met me.
URL:https://netwerkagendanederland.nl/evenement/live-dag-projectorschap-meppel/
LOCATION:Meppel\, Meppel\, Netherlands
ATTACH;FMTTYPE=image/jpeg:https://netwerkagendanederland.nl/wp-content/uploads/2026/03/20260313_151012.jpg
ORGANIZER;CN="Liesbeth Kingma":MAILTO:mail@liesbethkingma.nl
END:VEVENT
END:VCALENDAR