BEGIN:VCALENDAR
VERSION:2.0
PRODID:-//Netwerk Agenda Nederland - ECPv6.15.20//NONSGML v1.0//EN
CALSCALE:GREGORIAN
METHOD:PUBLISH
X-WR-CALNAME:Netwerk Agenda Nederland
X-ORIGINAL-URL:https://netwerkagendanederland.nl
X-WR-CALDESC:Evenementen voor Netwerk Agenda Nederland
REFRESH-INTERVAL;VALUE=DURATION:PT1H
X-Robots-Tag:noindex
X-PUBLISHED-TTL:PT1H
BEGIN:VTIMEZONE
TZID:Europe/Amsterdam
BEGIN:DAYLIGHT
TZOFFSETFROM:+0100
TZOFFSETTO:+0200
TZNAME:CEST
DTSTART:20250330T010000
END:DAYLIGHT
BEGIN:STANDARD
TZOFFSETFROM:+0200
TZOFFSETTO:+0100
TZNAME:CET
DTSTART:20251026T010000
END:STANDARD
BEGIN:DAYLIGHT
TZOFFSETFROM:+0100
TZOFFSETTO:+0200
TZNAME:CEST
DTSTART:20260329T010000
END:DAYLIGHT
BEGIN:STANDARD
TZOFFSETFROM:+0200
TZOFFSETTO:+0100
TZNAME:CET
DTSTART:20261025T010000
END:STANDARD
BEGIN:DAYLIGHT
TZOFFSETFROM:+0100
TZOFFSETTO:+0200
TZNAME:CEST
DTSTART:20270328T010000
END:DAYLIGHT
BEGIN:STANDARD
TZOFFSETFROM:+0200
TZOFFSETTO:+0100
TZNAME:CET
DTSTART:20271031T010000
END:STANDARD
END:VTIMEZONE
BEGIN:VEVENT
DTSTART;TZID=Europe/Amsterdam:20260526T183000
DTEND;TZID=Europe/Amsterdam:20260526T220000
DTSTAMP:20260422T134233
CREATED:20260301T060206Z
LAST-MODIFIED:20260301T060206Z
UID:21510-1779820200-1779832800@netwerkagendanederland.nl
SUMMARY:Netwerkdinner voor ondernemende vrouwen -Breda
DESCRIPTION:Elkaar leren kennen\, elkaar inspireren en elkaar verder helpen met de enveloppenmethode™\, dat is Bites & Business.\nNiet-leden mogen twee keer deelnemen zonder lid te zijn.\nKom en ervaar het zelf hoe inspirerend en nuttig een netwerkdiner van Bites & Business kan zijn!
URL:https://netwerkagendanederland.nl/evenement/netwerkdinner-voor-ondernemende-vrouwen-breda-2/
LOCATION:Breda\, Breda\, Netherlands
ATTACH;FMTTYPE=image/jpeg:https://netwerkagendanederland.nl/wp-content/uploads/2026/02/NAN-Event-foto-blog-sfeerimpressie-1024-x-1024-px-7.jpg
ORGANIZER;CN="Bites & Business Breda":MAILTO:breda@bitesenbusiness.nl
END:VEVENT
END:VCALENDAR