BEGIN:VCALENDAR
VERSION:2.0
PRODID:-//Netwerk Agenda Nederland - ECPv6.15.20//NONSGML v1.0//EN
CALSCALE:GREGORIAN
METHOD:PUBLISH
X-WR-CALNAME:Netwerk Agenda Nederland
X-ORIGINAL-URL:https://netwerkagendanederland.nl
X-WR-CALDESC:Evenementen voor Netwerk Agenda Nederland
REFRESH-INTERVAL;VALUE=DURATION:PT1H
X-Robots-Tag:noindex
X-PUBLISHED-TTL:PT1H
BEGIN:VTIMEZONE
TZID:Europe/Amsterdam
BEGIN:DAYLIGHT
TZOFFSETFROM:+0100
TZOFFSETTO:+0200
TZNAME:CEST
DTSTART:20250330T010000
END:DAYLIGHT
BEGIN:STANDARD
TZOFFSETFROM:+0200
TZOFFSETTO:+0100
TZNAME:CET
DTSTART:20251026T010000
END:STANDARD
BEGIN:DAYLIGHT
TZOFFSETFROM:+0100
TZOFFSETTO:+0200
TZNAME:CEST
DTSTART:20260329T010000
END:DAYLIGHT
BEGIN:STANDARD
TZOFFSETFROM:+0200
TZOFFSETTO:+0100
TZNAME:CET
DTSTART:20261025T010000
END:STANDARD
BEGIN:DAYLIGHT
TZOFFSETFROM:+0100
TZOFFSETTO:+0200
TZNAME:CEST
DTSTART:20270328T010000
END:DAYLIGHT
BEGIN:STANDARD
TZOFFSETFROM:+0200
TZOFFSETTO:+0100
TZNAME:CET
DTSTART:20271031T010000
END:STANDARD
END:VTIMEZONE
BEGIN:VEVENT
DTSTART;TZID=Europe/Amsterdam:20260527T190000
DTEND;TZID=Europe/Amsterdam:20260527T223000
DTSTAMP:20260422T134535
CREATED:20260312T193937Z
LAST-MODIFIED:20260312T194009Z
UID:22206-1779908400-1779921000@netwerkagendanederland.nl
SUMMARY:Netwerken en Workshop Sterkere Verhalen voor vrouwelijke ondernemers - Vianen
DESCRIPTION:Welke verhalen vertel jij jezelf over wie je bent en wat je waard bent? Tijdens deze workshop ontdek je hoe jouw innerlijke verhaal jouw keuzes\, zichtbaarheid en zelfvertrouwen beïnvloedt. \nIn de workshop Sterkere Verhalen ga je onderzoeken welk verhaal onder jouw woorden en acties ligt. Veel ondernemers sturen hun bedrijf krachtig aan\, maar houden zichzelf soms onbewust kleiner dan ze zijn. \nSpreker Carlijn Broers begeleidt je in een verdiepend schrijf- en reflectieproces. Je gaat schrijven\, ontdekken en onderzoeken wat jou drijft. Waar maak je jezelf kleiner dan je bent? Welke woorden passen werkelijk bij jou? \nJe herschrijft jouw verhaal zodat het weer klopt met wie jij écht bent. Zo neem je jouw plek krachtiger en authentieker in. \nWat je uit deze workshop haalt: \nInzicht in het verhaal dat jouw keuzes beïnvloedt\nBewustwording van waar je jezelf mogelijk beperkt\nNieuwe woorden die beter passen bij wie jij bent\nMeer vertrouwen om jouw plek in te nemen\nEen persoonlijk verhaal dat jou versterkt\nVooraf is er de mogelijkheid om samen te eten bij Golfbaan De Kroonprins (op eigen rekening). Geef dit aan in het opmerkingenveld bij je aanmelding\, zodat er een tafel gereserveerd kan worden. \nIntroducees zijn welkom. Ben je nog geen lid en nieuwsgierig naar het Entre Femmes-netwerk? Meld je aan en ervaar de sfeer.
URL:https://netwerkagendanederland.nl/evenement/netwerken-en-workshop-sterkere-verhalen-voor-vrouwelijke-ondernemers-vianen/
LOCATION:golfbaan de Kroonprins\, Merwedekade 8\, Vianen\, 4131NZ\, Netherlands
ATTACH;FMTTYPE=image/jpeg:https://netwerkagendanederland.nl/wp-content/uploads/2025/05/WhatsApp-Image-2024-10-16-at-23.27.46-1.jpeg
ORGANIZER;CN="Entre Femmes":MAILTO:info@entrefemmes.nl
END:VEVENT
END:VCALENDAR