BEGIN:VCALENDAR
VERSION:2.0
PRODID:-//Netwerk Agenda Nederland - ECPv6.15.20//NONSGML v1.0//EN
CALSCALE:GREGORIAN
METHOD:PUBLISH
X-WR-CALNAME:Netwerk Agenda Nederland
X-ORIGINAL-URL:https://netwerkagendanederland.nl
X-WR-CALDESC:Evenementen voor Netwerk Agenda Nederland
REFRESH-INTERVAL;VALUE=DURATION:PT1H
X-Robots-Tag:noindex
X-PUBLISHED-TTL:PT1H
BEGIN:VTIMEZONE
TZID:Europe/Amsterdam
BEGIN:DAYLIGHT
TZOFFSETFROM:+0100
TZOFFSETTO:+0200
TZNAME:CEST
DTSTART:20250330T010000
END:DAYLIGHT
BEGIN:STANDARD
TZOFFSETFROM:+0200
TZOFFSETTO:+0100
TZNAME:CET
DTSTART:20251026T010000
END:STANDARD
BEGIN:DAYLIGHT
TZOFFSETFROM:+0100
TZOFFSETTO:+0200
TZNAME:CEST
DTSTART:20260329T010000
END:DAYLIGHT
BEGIN:STANDARD
TZOFFSETFROM:+0200
TZOFFSETTO:+0100
TZNAME:CET
DTSTART:20261025T010000
END:STANDARD
BEGIN:DAYLIGHT
TZOFFSETFROM:+0100
TZOFFSETTO:+0200
TZNAME:CEST
DTSTART:20270328T010000
END:DAYLIGHT
BEGIN:STANDARD
TZOFFSETFROM:+0200
TZOFFSETTO:+0100
TZNAME:CET
DTSTART:20271031T010000
END:STANDARD
END:VTIMEZONE
BEGIN:VEVENT
DTSTART;TZID=Europe/Amsterdam:20260606T100000
DTEND;TZID=Europe/Amsterdam:20260606T160000
DTSTAMP:20260422T135213
CREATED:20260316T183953Z
LAST-MODIFIED:20260316T183953Z
UID:21782-1780740000-1780761600@netwerkagendanederland.nl
SUMMARY:Welke verhalen vertel jij jezelf over ondernemen - Ommen
DESCRIPTION:edere ondernemer heeft ze: verhalen in haar hoofd. \nVerhalen over wat er wel of niet mogelijk is. Over wat je zou moeten doen om succesvol te zijn. Over waarom iets wel of niet voor jou zou werken. \nVeel van die overtuigingen zijn ooit ontstaan door ervaringen\, verwachtingen van anderen of dingen die je hebt geleerd over ondernemen. Vaak zijn ze zo normaal geworden dat je niet eens meer merkt dat ze je keuzes beïnvloeden. \nTijdens deze live dag gaan we kijken naar de verhalen die jij jezelf vertelt over ondernemen. \nMisschien herken je gedachten zoals:\n“Ik moet het allemaal alleen doen.”\n“Ik ben er nog niet klaar voor.”\n“Andere ondernemers zijn verder dan ik.” \nDit soort overtuigingen kunnen onbewust bepalen welke keuzes je maakt in je bedrijf. \nDoor middel van oefeningen\, reflectie en verdiepende vragen ontdek je welke overtuigingen bij jou een rol spelen en waar ze vandaan komen. \nDaarnaast besteden we aandacht aan vergeving en loslaten. Niet omdat iets “oké” moet zijn\, maar omdat het ruimte kan geven om jezelf niet langer vast te houden in oude patronen. \nWanneer je oude verhalen loslaat\, ontstaat er ruimte voor nieuwe mogelijkheden. Voor andere keuzes. Voor een andere manier van ondernemen. \nDeze dag helpt je om met meer mildheid naar jezelf te kijken en bewuster te worden van wat jou misschien nog tegenhoudt. \nVan daaruit kun je weer stappen zetten die echt bij jou passen.
URL:https://netwerkagendanederland.nl/evenement/welke-verhalen-vertel-jij-jezelf-over-ondernemen-ommen/
LOCATION:Oeverlicht Steile oever 7\, Ommen\, Netherlands
ATTACH;FMTTYPE=image/jpeg:https://netwerkagendanederland.nl/wp-content/uploads/2026/03/Live-dag-1.jpg
ORGANIZER;CN="Mamawijs":MAILTO:Info@mamawijs.nl
END:VEVENT
END:VCALENDAR