BEGIN:VCALENDAR
VERSION:2.0
PRODID:-//Netwerk Agenda Nederland - ECPv6.15.20//NONSGML v1.0//EN
CALSCALE:GREGORIAN
METHOD:PUBLISH
X-WR-CALNAME:Netwerk Agenda Nederland
X-ORIGINAL-URL:https://netwerkagendanederland.nl
X-WR-CALDESC:Evenementen voor Netwerk Agenda Nederland
REFRESH-INTERVAL;VALUE=DURATION:PT1H
X-Robots-Tag:noindex
X-PUBLISHED-TTL:PT1H
BEGIN:VTIMEZONE
TZID:Europe/Amsterdam
BEGIN:DAYLIGHT
TZOFFSETFROM:+0100
TZOFFSETTO:+0200
TZNAME:CEST
DTSTART:20250330T010000
END:DAYLIGHT
BEGIN:STANDARD
TZOFFSETFROM:+0200
TZOFFSETTO:+0100
TZNAME:CET
DTSTART:20251026T010000
END:STANDARD
BEGIN:DAYLIGHT
TZOFFSETFROM:+0100
TZOFFSETTO:+0200
TZNAME:CEST
DTSTART:20260329T010000
END:DAYLIGHT
BEGIN:STANDARD
TZOFFSETFROM:+0200
TZOFFSETTO:+0100
TZNAME:CET
DTSTART:20261025T010000
END:STANDARD
BEGIN:DAYLIGHT
TZOFFSETFROM:+0100
TZOFFSETTO:+0200
TZNAME:CEST
DTSTART:20270328T010000
END:DAYLIGHT
BEGIN:STANDARD
TZOFFSETFROM:+0200
TZOFFSETTO:+0100
TZNAME:CET
DTSTART:20271031T010000
END:STANDARD
END:VTIMEZONE
BEGIN:VEVENT
DTSTART;TZID=Europe/Amsterdam:20260619T130000
DTEND;TZID=Europe/Amsterdam:20260619T170000
DTSTAMP:20260422T121652
CREATED:20251229T141158Z
LAST-MODIFIED:20251229T145029Z
UID:10001006-1781874000-1781888400@netwerkagendanederland.nl
SUMMARY:Training Podiumpresence – Beneden Leeuwen
DESCRIPTION:Met jouw verhaal 80% meer impact maken met jouw podiumpresence. \nNa deze dag sta je steviger\, spreek je vrijer en met meer plezier\nop elk podium\, voor elke groep en in elk gesprek. Zowel op professioneel als persoonlijk vlak. \nJe hebt iets te brengen. Met jouw ervaringen\, missie en visie.\nJouw boodschap doet ertoe en je wilt daarmee mensen boeien\, inspireren en activeren.\nDat doe je door je lijf\, je stem\, je energie in te zetten die je verhaal kracht bij zetten. \nTijdens de training Podiumpresence\nga je actief aan de slag met jouw verhaal en je podiumpresence.\nJe oefent\, voelt en leert wat het betekent om vrij te spreken\, stevig te staan en verbinding te maken met je publiek.\nJe leert hoe je vanuit jouw persoonlijkheid impact kunt maken. \nWant wat jij overbrengt\, zit niet alleen in je woorden.\nVoor 80% zit het in je presence. \nTijdens deze dag: \nwerk je aan je presence bij je presentatie\nleer je hoe je mensen echt raakt en in beweging zet\nkrijg je persoonlijke begeleiding van regisseur\, trainer en podiumpakker Daisy van Sommeren\nis er mogelijkheid tot netwerken\nverbind je je met ambitieuze\, ondernemende leiders en podiumpakkers zoals jij \nDaisy van Sommeren is regisseur en traint sprekers\, leiders en ondernemers om hun volle presence te laten spreken! \nBeperkt aantal plekken. Maximaal 30 plekken. \nPak dit podium. Presence kun je niet faken. Maar je kunt het wél trainen.\nMet vertrouwen\, overtuiging en plezier jouw podium pakken.
URL:https://netwerkagendanederland.nl/evenement/training-podiumpresence-beneden-leeuwen-3/
LOCATION:De rosmolen\, beneden leeuwen\, Leliestraat 19\, BENEDEN-LEEUWEN\, 6658XN\, Netherlands
ATTACH;FMTTYPE=image/jpeg:https://netwerkagendanederland.nl/wp-content/uploads/2025/11/aankondigen.jpg
ORGANIZER;CN="Daisy van Sommeren":MAILTO:info@daisyvansommeren.nl
END:VEVENT
END:VCALENDAR