BEGIN:VCALENDAR
VERSION:2.0
PRODID:-//Netwerk Agenda Nederland - ECPv6.15.20//NONSGML v1.0//EN
CALSCALE:GREGORIAN
METHOD:PUBLISH
X-WR-CALNAME:Netwerk Agenda Nederland
X-ORIGINAL-URL:https://netwerkagendanederland.nl
X-WR-CALDESC:Evenementen voor Netwerk Agenda Nederland
REFRESH-INTERVAL;VALUE=DURATION:PT1H
X-Robots-Tag:noindex
X-PUBLISHED-TTL:PT1H
BEGIN:VTIMEZONE
TZID:Europe/Amsterdam
BEGIN:DAYLIGHT
TZOFFSETFROM:+0100
TZOFFSETTO:+0200
TZNAME:CEST
DTSTART:20250330T010000
END:DAYLIGHT
BEGIN:STANDARD
TZOFFSETFROM:+0200
TZOFFSETTO:+0100
TZNAME:CET
DTSTART:20251026T010000
END:STANDARD
BEGIN:DAYLIGHT
TZOFFSETFROM:+0100
TZOFFSETTO:+0200
TZNAME:CEST
DTSTART:20260329T010000
END:DAYLIGHT
BEGIN:STANDARD
TZOFFSETFROM:+0200
TZOFFSETTO:+0100
TZNAME:CET
DTSTART:20261025T010000
END:STANDARD
BEGIN:DAYLIGHT
TZOFFSETFROM:+0100
TZOFFSETTO:+0200
TZNAME:CEST
DTSTART:20270328T010000
END:DAYLIGHT
BEGIN:STANDARD
TZOFFSETFROM:+0200
TZOFFSETTO:+0100
TZNAME:CET
DTSTART:20271031T010000
END:STANDARD
END:VTIMEZONE
BEGIN:VEVENT
DTSTART;TZID=Europe/Amsterdam:20260424T090000
DTEND;TZID=Europe/Amsterdam:20260424T110000
DTSTAMP:20260421T173034
CREATED:20260218T140042Z
LAST-MODIFIED:20260218T140042Z
UID:10001452-1777021200-1777028400@netwerkagendanederland.nl
SUMMARY:Sportief netwerken - Breda
DESCRIPTION:Sporten + netwerken = sterker ondernemen \nBij de Fit in Business Club hoef je niet te kiezen tussen sporten óf netwerken… Je doet het gewoon allebei tegelijk en het is daarbij nog leuk en gezellig ook! En het is toegankelijk voor iedereen\, sporter of niet. Alle oefeningen doe je op jouw eigen niveau. \nDit kan je verwachten: \nSamen een uurtje buiten sporten\nKracht en conditie trainen op je eigen niveau.\nGeen drillmaster\, wél gezellig!\nNetwerken met andere ondernemers\nGoeie gesprekken\, een drankje en een gezonde bite.\nJouw ondernemersvraag stellen met de #vraagje methode\nEnergiek en met tips en inspiratie naar huis (of werk)!\nEerste keer deelnemen is gratis. Vaker komen? Schaf jouw strippenkaart aan. Zie website voor info en kosten. \n 
URL:https://netwerkagendanederland.nl/evenement/sportief-netwerken-breda-5/
LOCATION:Van Sonsbeeckpark Breda (Optisport)\, Pieter-Christiaanstraat 2\, Breda\, 4811 PS\, Netherlands
ATTACH;FMTTYPE=image/jpeg:https://netwerkagendanederland.nl/wp-content/uploads/2025/12/FIBclub-1-2.jpg
ORGANIZER;CN="Marloes Hoefnagels":MAILTO:loes@fitmetloes.nl
END:VEVENT
BEGIN:VEVENT
DTSTART;TZID=Europe/Amsterdam:20260429T083000
DTEND;TZID=Europe/Amsterdam:20260429T103000
DTSTAMP:20260421T173034
CREATED:20260218T140517Z
LAST-MODIFIED:20260218T140517Z
UID:10001456-1777451400-1777458600@netwerkagendanederland.nl
SUMMARY:Netwerken én bewegen - Breda
DESCRIPTION:Sporten + netwerken = sterker ondernemen \nBij de Fit in Business Club hoef je niet te kiezen tussen sporten óf netwerken… Je doet het gewoon allebei tegelijk en het is daarbij nog leuk en gezellig ook! En het is toegankelijk voor iedereen\, sporter of niet. Alle oefeningen doe je op jouw eigen niveau. \nDit kan je verwachten: \nSamen een uurtje buiten sporten\nKracht en conditie trainen op je eigen niveau.\nGeen drillmaster\, wél gezellig!\nNetwerken met andere ondernemers\nGoeie gesprekken\, een drankje en een gezonde bite.\nJouw ondernemersvraag stellen met de #vraagje methode\nEnergiek en met tips en inspiratie naar huis (of werk)!\nEerste keer deelnemen is gratis. Vaker komen? Schaf jouw strippenkaart aan. Zie website voor info en kosten. \n 
URL:https://netwerkagendanederland.nl/evenement/netwerken-en-bewegen-breda-5/
LOCATION:Van Sonsbeeckpark Breda (Optisport)\, Pieter-Christiaanstraat 2\, Breda\, 4811 PS\, Netherlands
ATTACH;FMTTYPE=image/jpeg:https://netwerkagendanederland.nl/wp-content/uploads/2025/12/FIBclub-1-4.jpg
ORGANIZER;CN="Marloes Hoefnagels":MAILTO:loes@fitmetloes.nl
END:VEVENT
END:VCALENDAR